BEGIN:VCALENDAR
VERSION:2.0
PRODID:-//StellaVita - ECPv6.15.15//NONSGML v1.0//EN
CALSCALE:GREGORIAN
METHOD:PUBLISH
X-WR-CALNAME:StellaVita
X-ORIGINAL-URL:https://stella-vita.com
X-WR-CALDESC:Veranstaltungen für StellaVita
REFRESH-INTERVAL;VALUE=DURATION:PT1H
X-Robots-Tag:noindex
X-PUBLISHED-TTL:PT1H
BEGIN:VTIMEZONE
TZID:UTC
BEGIN:STANDARD
TZOFFSETFROM:+0000
TZOFFSETTO:+0000
TZNAME:UTC
DTSTART:20230101T000000
END:STANDARD
END:VTIMEZONE
BEGIN:VEVENT
DTSTART;TZID=UTC:20260122T200000
DTEND;TZID=UTC:20260122T210000
DTSTAMP:20260422T131312
CREATED:20260116T164738Z
LAST-MODIFIED:20260116T164900Z
UID:17359-1769112000-1769115600@stella-vita.com
SUMMARY:Kostenloser Livestream: Die wahre Essenz von Reiki
DESCRIPTION:Auf dem Pfad des ursprünglichen Reiki  \nReiki wird heutzutage immer bekannter und doch haben viele Menschen das Gefühl\, dass etwas Entscheidendes verloren gegangen ist. Techniken\, Symbole\, schnelle Grade\, oberflächliche Anwendungen… aber wo ist die spirituelle Tiefe? Wo ist die ursprüngliche Kraft\, die Mikao Usui wirklich vermitteln wollte? \nIn diesem kostenlosen Live-Stream lade ich Dich ein\, Reiki in seiner stillen\, kraftvollen und authentischen Essenz\, jenseits von Konzepten zu erleben. \nDu erfährst: \n\nWas der Unterschied zwischen modernem Reiki und ursprünglichem Reiki wirklich ist\nWarum Reiki ursprünglich ein spiritueller Schulungsweg war und nicht nur eine Heilmethode\nWas der wahre Kern von Reiki ist und warum genau dort seine größte Kraft liegt\nWarum Präsenz\, Bewusstsein und innere Haltung wichtiger sind als jede Technik\n\nDieser Abend ist keine reine Theorie. Du wirst Reiki erleben. \nGanz gleich\, ob Du neu bei Reiki bist oder bereits eingeweiht: Dieser Abend öffnet Dir einen Raum für ein tieferes Erinnern an das\, was Reiki im Kern wirklich ist. \n📅 Wann & Wo?\nDas Event findet als kostenloser Livestream auf meinem YouTube-Kanal statt. \nBeginn: 22.01.2026 um 20:00 Uhr.\nKeine Sorge\, der Raum ist privat und für Dritte nicht auffindbar. Gib einfach deine E-Mail-Adresse und deinen Namen ein danach erhältst du den Link direkt per Mail.
URL:https://stella-vita.com/event/kostenloser-livestream-die-wahre-essenz-von-reiki/
LOCATION:YouTube
CATEGORIES:Kostenloses LIVE
ATTACH;FMTTYPE=image/jpeg:https://stella-vita.com/wp-content/uploads/2026/01/Dein-Abschnittstext-1-3.jpg
END:VEVENT
BEGIN:VEVENT
DTSTART;TZID=UTC:20251111T200000
DTEND;TZID=UTC:20251111T210000
DTSTAMP:20260422T131312
CREATED:20251103T181613Z
LAST-MODIFIED:20251103T184236Z
UID:15929-1762891200-1762894800@stella-vita.com
SUMMARY:Kostenloser Livestream: Energetischer Schutz & Reinigung
DESCRIPTION:Reinige dein Energiefeld und stärke deinen Schutz \nFühlst du dich oft ausgelaugt nach Begegnungen mit anderen Menschen oder nimmst Emotionen auf\, die gar nicht zu dir gehören? Dann ist das ein Zeichen\, dass dein Energiefeld zu offen oder belastet ist. \nViele sensible Menschen spüren heute deutlich:„Ich verliere Energie im Alltag\, ohne zu wissen\, warum.“Das liegt nicht an dir\, sondern an der fehlenden Energiehygiene. \nIn diesem Live-Event erfährst du\, wie du dein Energiefeld bewusst reinigst\, schützt und stärkst\, damit du dich wieder zentriert\, klar und verbunden fühlst. \n\n Du fühlst dich oft müde oder leer\, ohne körperlichen Grund?\n Du nimmst du Emotionen anderer schnell auf?\n Du möchtest dich energetisch klar abgrenzen\, ohne dich zu verschließen?\n\nDann ist dieses Live genau das Richtige für dich. \nGemeinsam führen wir kleine Reinigungs- und Schutzrituale durch\, die du sofort in deinen Alltag integrieren kannst. \nKein Vorwissen erforderlich! Du brauchst nur Offenheit und die Bereitschaft\, in dein eigenes Energiefeld zu spüren.Erlebe\, wie sich Leichtigkeit\, Klarheit und Ruhe in dir ausbreiten\, wenn du wieder ganz in deiner Energie bist. \n📅 Wann & Wo?\nDas Event findet als kostenloser Livestream auf meinem YouTube-Kanal statt. \nBeginn: 11.11.2025 um 20:00 Uhr.\nKeine Sorge\, der Raum ist privat und für Dritte nicht auffindbar. Gib einfach deine E-Mail-Adresse und deinen Namen ein danach erhältst du den Link direkt per Mail.
URL:https://stella-vita.com/event/kostenloser-livestream-energetischer-schutz-reinigung/
LOCATION:YouTube
CATEGORIES:Kostenloses LIVE
ATTACH;FMTTYPE=image/jpeg:https://stella-vita.com/wp-content/uploads/2025/11/Dein-Abschnittstext.jpg
END:VEVENT
BEGIN:VEVENT
DTSTART;TZID=UTC:20250401T193000
DTEND;TZID=UTC:20250401T203000
DTSTAMP:20260422T131312
CREATED:20250318T200056Z
LAST-MODIFIED:20250318T200312Z
UID:11988-1743535800-1743539400@stella-vita.com
SUMMARY:0€ Webinar: Kraft deiner Ahnen
DESCRIPTION:Versöhne dich mit deiner Ahnenlinie und entfessele ihre Kraft! \nUnsere Ahnen sind mehr als nur Vergangenheit – sie sind eine Quelle von Kraft\, Weisheit und tiefer Verbindung. Doch ungelöste Ahnenthemen können sich unbewusst auf unser Leben auswirken: in Form von Ängsten\, wiederkehrenden Mustern oder emotionalen Blockaden. \n🔹 Spürst du\, dass dich etwas zurückhält\, ohne genau zu wissen\, warum?🔹 Fühlst du dich von alten Familienmustern beeinflusst?🔹 Möchtest du eine tiefere Verbindung zu deiner Ahnenkraft aufbauen? \nIn diesem intensiven Live-Event nehme ich dich mit auf eine transformierende Reise: \n💫 Verstehe die Entstehung und Auswirkungen von Ahnenthemen.💫 Löse energetische Blockaden und bringe Heilung in deine Ahnenreihe.💫 Erfahre kraftvolle Rituale & Aufstellungen zur Ahnenarbeit.💫 Begib dich auf eine geführte Reise\, um deine Ahnen zu treffen und ihren Segen zu empfangen. \n🕊️ Kein Vorwissen erforderlich – du brauchst nur Offenheit für die Erfahrung.🔥 Lass die Kraft deiner Ahnen wieder fließen und gestalte deine Zukunft frei von alten Belastungen! \n📅 Wann & Wo?\nDas Event findet als kostenloser Livestream auf meinem YouTube-Kanal statt. Das Event findet am 01.04.2025 um 19:30 Uhr statt.\nKeine Sorge\, der Raum ist privat und für Dritte nicht auffindbar. Gib einfach deine Emailadresse und deinen Namen ein. Im Anschluss erhältst du den Link zum Webinar-Raum per Mail.
URL:https://stella-vita.com/event/kraft-deiner-ahnen/
LOCATION:YouTube
CATEGORIES:Kostenloses LIVE
ATTACH;FMTTYPE=image/webp:https://stella-vita.com/wp-content/uploads/2025/03/DALL·E-2025-03-18-19.07.27-A-mystical-and-spiritual-themed-image-of-a-majestic-ancestral-tree-glowing-with-golden-light.-The-trees-roots-extend-deeply-into-the-earth-symbolizi.webp
END:VEVENT
BEGIN:VEVENT
DTSTART;TZID=UTC:20250220T193000
DTEND;TZID=UTC:20250220T203000
DTSTAMP:20260422T131312
CREATED:20250204T184509Z
LAST-MODIFIED:20250213T145419Z
UID:11449-1740079800-1740083400@stella-vita.com
SUMMARY:0€ Webinar: Traditionelle Reiki-Techniken
DESCRIPTION:Traditionelle Reiki-Techniken – Eine Reise zu den Wurzeln von Reiki \nReiki ist mehr als nur Handauflegen – es ist eine Kunst\, die auf jahrhundertealten Techniken basiert. Doch viele dieser ursprünglichen Methoden sind heute kaum noch bekannt. In diesem kostenlosen Live-Event tauchen wir gemeinsam in die traditionellen Reiki-Techniken ein\, die in Japan seit Generationen weitergegeben wurden. \n🔹 Was erwartet dich?\n✅ Die Unterschiede zwischen traditionellen japanischen Techniken und modernen New-Age-Reiki-Ansätzen\n✅ Die drei Tanden – die Energiezentren deines Körpers und ihr Einfluss auf deine Praxis\n✅ Eine praktische Einführung in den Ablauf einer traditionellen Reiki-Session mit 3–5 originalen Techniken \n📌 Für wen ist dieses Event geeignet?\nDu brauchst kein Vorwissen! Egal\, ob du Reiki-Anfänger bist oder bereits praktizierst – dieses Event bringt dir neue\, tiefere Einblicke in die ursprüngliche Reiki-Lehre. \n📅 Wann & Wo?\nDas Event findet als kostenloser Livestream auf meinem YouTube-Kanal statt. Beginn ist am 20.02.2025 um 19:30 Uhr.\nKeine Sorge\, der Raum ist privat und für Dritte nicht auffindbar. Gib einfach deine Emailadresse und deinen Namen ein. Im Anschluss erhältst du den Link zum Webinar-Raum per Mail.
URL:https://stella-vita.com/event/reiki-techniken/
LOCATION:YouTube
CATEGORIES:Kostenloses LIVE
ATTACH;FMTTYPE=image/jpeg:https://stella-vita.com/wp-content/uploads/2024/09/Dein-Abschnittstext-1-1.jpg
END:VEVENT
BEGIN:VEVENT
DTSTART;TZID=UTC:20250130T194500
DTEND;TZID=UTC:20250130T210000
DTSTAMP:20260422T131312
CREATED:20250127T144219Z
LAST-MODIFIED:20250127T144219Z
UID:11366-1738266300-1738270800@stella-vita.com
SUMMARY:Live-Meditation: Zellgedächtnis
DESCRIPTION:In jeder unserer Körperzellen sind auch bestimmte Erinnerungen abgespeichert. So finden wir im sog. „Zellgedächtnis“ auch die Erinnerungen\, Blockaden und Probleme\, die bisher in unserem Energiefeld gewirkt haben. Dies wiederum hat Einfluss auf die Kommunikation zwischen den Zellen und auf unser gesamtes\, körperliches Wohlbefinden. \nInsofern ist es wichtig\, diese blockierenden Erinnerungen zu löschen und Platz zu schaffen eine frei fließende Lebensenergie\, um ein Leben nach unseren Vorstellungen zu erschaffen. \nDie Veranstaltung findet als kostenloser Livestream über meinen TikTok-Kanal statt. Klicke einfach auf den Link\, um dem Livestream beizutreten. \n>> Hier kommst du zum Livestream
URL:https://stella-vita.com/event/live-meditation-zellgedaechtnis/
CATEGORIES:Kostenloses LIVE
ATTACH;FMTTYPE=image/webp:https://stella-vita.com/wp-content/uploads/2025/01/DALL·E-2025-01-27-15.41.33-A-dynamic-and-healing-title-image-in-16_9-aspect-ratio-for-a-live-event-about-cellular-memory-and-energy-flow.-The-background-features-vibrant-gradien.webp
END:VEVENT
BEGIN:VEVENT
DTSTART;TZID=UTC:20241223T194500
DTEND;TZID=UTC:20241223T210000
DTSTAMP:20260422T131312
CREATED:20241202T165610Z
LAST-MODIFIED:20241223T100221Z
UID:11049-1734983100-1734987600@stella-vita.com
SUMMARY:Kronenchakra LIVE
DESCRIPTION:Das Kronenchakra steht für die geistige Ebene und den Zugang zur Spiritualität. Ist dieses Chakra blockiert\, dann halten wir an Matierellem\, Irdischen fest und haben das Gefühl\, nicht verbunden zu sein. \nIn dieser kostenlosen Live-Veranstaltung lernst du: \n… welche Aufgaben und Funktionen das Kronenchakra hat \n… wie sich ein blockiertes Chakra auswirken kann \n… wie du dein Chakra reinigen und stärken kannst \n… woran du ein aktives Kronenchakra erkennst. \nDie Veranstaltung findet als kostenloser Livestream über meinen TikTok-Kanal statt. Klicke einfach auf den Link\, um dem Livestream beizutreten. \n>> Hier kommst du zum Livestream
URL:https://stella-vita.com/event/kronenchakra-live/
LOCATION:TikTok Live
CATEGORIES:Kostenloses LIVE
ATTACH;FMTTYPE=image/webp:https://stella-vita.com/wp-content/uploads/2024/12/DALL·E-2024-12-02-17.55.07-A-radiant-and-spiritual-title-image-in-16_9-aspect-ratio-for-a-presentation-on-the-Crown-Chakra-symbolizing-the-spiritual-realm-and-connection-to-hig.webp
END:VEVENT
BEGIN:VEVENT
DTSTART;TZID=UTC:20241219T194500
DTEND;TZID=UTC:20241219T210000
DTSTAMP:20260422T131312
CREATED:20241202T164852Z
LAST-MODIFIED:20241202T164852Z
UID:11044-1734637500-1734642000@stella-vita.com
SUMMARY:Stirnchakra LIVE
DESCRIPTION:Das Stirnchakra steht für die mentale Ebene\, also für den Verstand\, Intelligenz und das Ego. Viele kennen das Dritte Auge für den Zugang zu übersinnlichen Fähigkeiten und die Intuition. Indem wir Einheit mit unserem Verstand schaffen\, können wir Ego-Konflikte und negative Denkmuster auflösen. \nIn dieser kostenlosen Live-Veranstaltung lernst du: \n… welche Aufgaben und Funktionen das Stirnchakra hat \n… wie sich ein blockiertes Chakra auswirken kann \n… wie du dein Chakra reinigen und stärken kannst \n… woran du ein aktives Stirnchakra erkennst. \nDie Veranstaltung findet als kostenloser Livestream über meinen TikTok-Kanal statt. Klicke einfach auf den Link\, um dem Livestream beizutreten. \n>> Hier kommst du zum Livestream
URL:https://stella-vita.com/event/stirnchakra-live/
LOCATION:TikTok Live
CATEGORIES:Kostenloses LIVE
ATTACH;FMTTYPE=image/webp:https://stella-vita.com/wp-content/uploads/2024/12/DALL·E-2024-12-02-17.48.05-A-mystical-and-insightful-title-image-in-16_9-aspect-ratio-for-a-presentation-on-the-Third-Eye-Chakra-symbolizing-the-mental-realm-intuition-and-hi.webp
END:VEVENT
BEGIN:VEVENT
DTSTART;TZID=UTC:20241212T194500
DTEND;TZID=UTC:20241212T210000
DTSTAMP:20260422T131313
CREATED:20241119T120349Z
LAST-MODIFIED:20241202T165011Z
UID:10977-1734032700-1734037200@stella-vita.com
SUMMARY:Halschakra LIVE
DESCRIPTION:Das Halschakra steht für die Ebene der Kommunikation und des Selbstausdrucks. Ehrliches Kommunizieren und seine innere Stimme zum Ausdruck bringen sind von essentieller Bedeutung. Wer seine Meinung zurückhält und Konflikte vermeiden will\, der handelt oftmals nicht authentisch und ehrlich zu sich selbst. \nIn dieser kostenlosen Live-Veranstaltung lernst du: \n… welche Aufgaben und Funktionen das Halschakra hat \n… wie sich ein blockiertes Chakra auswirken kann \n… wie du dein Chakra reinigen und stärken kannst \n… woran du ein aktives Halschakra erkennst. \nDie Veranstaltung findet als kostenloser Livestream über meinen TikTok-Kanal statt. Klicke einfach auf den Link\, um dem Livestream beizutreten. \n>> Hier kommst du zum Livestream
URL:https://stella-vita.com/event/halschakra-live/
LOCATION:TikTok Live
CATEGORIES:Kostenloses LIVE
ATTACH;FMTTYPE=image/webp:https://stella-vita.com/wp-content/uploads/2024/11/DALL·E-2024-11-19-13.02.10-A-serene-and-expressive-title-image-in-16_9-aspect-ratio-for-a-presentation-on-the-Throat-Chakra-symbolizing-communication-and-self-expression.-The-b.webp
END:VEVENT
BEGIN:VEVENT
DTSTART;TZID=UTC:20241205T194500
DTEND;TZID=UTC:20241205T210000
DTSTAMP:20260422T131313
CREATED:20241114T144214Z
LAST-MODIFIED:20241114T144214Z
UID:10912-1733427900-1733432400@stella-vita.com
SUMMARY:Herzchakra LIVE
DESCRIPTION:Das Herzchakra bildet den Mittelpunkt der 7 Hauptchakren und drückt die Beziehungsebene aus. Die Basis einer gesunden Beziehung bildet eine gesunde Selbstliebe. Wer für sich selbst keinen Wert erkennen kann\, wird sich immer von der Bestätigung und Anerkennung anderer abhängig machen. \nIn dieser kostenlosen Live-Veranstaltung lernst du: \n… welche Aufgaben und Funktionen das Herzchakra hat \n… wie sich ein blockiertes Chakra auswirken kann \n… wie du dein Chakra reinigen und stärken kannst \n… woran du ein aktives Herzchakra erkennst. \nDie Veranstaltung findet als kostenloser Livestream über meinen TikTok-Kanal statt. Klicke einfach auf den Link\, um dem Livestream beizutreten. \n>> Hier kommst du zum Livestream
URL:https://stella-vita.com/event/herzchakra-live/
LOCATION:TikTok Live
CATEGORIES:Kostenloses LIVE
ATTACH;FMTTYPE=image/webp:https://stella-vita.com/wp-content/uploads/2024/11/DALL·E-2024-11-14-15.41.42-A-gentle-and-harmonious-title-image-in-16_9-aspect-ratio-for-a-presentation-on-the-Heart-Chakra-the-central-chakra-among-the-seven-symbolizing-relat.webp
END:VEVENT
BEGIN:VEVENT
DTSTART;TZID=UTC:20241128T194500
DTEND;TZID=UTC:20241128T210000
DTSTAMP:20260422T131313
CREATED:20241114T143617Z
LAST-MODIFIED:20241114T143617Z
UID:10908-1732823100-1732827600@stella-vita.com
SUMMARY:Solarplexuschakra LIVE
DESCRIPTION:Das Solarplexuischakra ist das letzte der 3 unteren Überlebens-Chakren. Es steht für die Ebene der Handlungen\, aber auch Tatendrang\, Willenskraft und Disziplin. Wer sich auf seine Stärken beruft und konsequent seine Ziele umsetzt\, wird seinen Weg selbstbewusst und ohne Selbstsabotage gehen können. \nIn dieser kostenlosen Live-Veranstaltung lernst du: \n… welche Aufgaben und Funktionen das Solarplexuschakra hat \n… wie sich ein blockiertes Chakra auswirken kann \n… wie du dein Chakra reinigen und stärken kannst \n… woran du ein aktives Solarplexuschakra erkennst. \nDie Veranstaltung findet als kostenloser Livestream über meinen TikTok-Kanal statt. Klicke einfach auf den Link\, um dem Livestream beizutreten. \n>> Hier kommst du zum Livestream
URL:https://stella-vita.com/event/solarplexuschakra-live/
LOCATION:TikTok Live
CATEGORIES:Kostenloses LIVE
ATTACH;FMTTYPE=image/webp:https://stella-vita.com/wp-content/uploads/2024/11/DALL·E-2024-11-14-15.35.31-A-powerful-and-motivational-title-image-in-16_9-aspect-ratio-for-a-presentation-on-the-Solar-Plexus-Chakra-the-third-and-final-of-the-lower-survival-.webp
END:VEVENT
BEGIN:VEVENT
DTSTART;TZID=UTC:20241121T194500
DTEND;TZID=UTC:20241121T210000
DTSTAMP:20260422T131313
CREATED:20241112T194445Z
LAST-MODIFIED:20241112T194445Z
UID:10894-1732218300-1732222800@stella-vita.com
SUMMARY:Sakralchakra LIVE
DESCRIPTION:Das Sakralchakra ist das zweite der 7 Hauptchakren. Es spiegelt die Ebene der Gefühle wider. Gefühle wirken wie Brennstoff für den Körper. Daher ist es sehr wichtig\, seine Emotionen richtig auszudrücken\, egal ob Trauer\, Kummer\, Wut\, oder auch positive Gefühle wie Freude und Begeisterung. \nIn dieser kostenlosen Live-Veranstaltung lernst du: \n… welche Aufgaben und Funktionen das Sakralchakra hat \n… wie sich ein blockiertes Chakra auswirken kann \n… wie du dein Chakra reinigen und stärken kannst \n… woran du ein aktives Sakralchakra erkennst. \nDie Veranstaltung findet als kostenloser Livestream über meinen TikTok-Kanal statt. Klicke einfach auf den Link\, um dem Livestream beizutreten. \n>> Hier kommst du zum Livestream
URL:https://stella-vita.com/event/sakralchakra-live/
LOCATION:TikTok Live
CATEGORIES:Kostenloses LIVE
ATTACH;FMTTYPE=image/webp:https://stella-vita.com/wp-content/uploads/2024/11/DALL·E-2024-11-12-20.43.21-A-calming-and-vibrant-title-image-in-16_9-aspect-ratio-for-a-presentation-on-the-Sacral-Chakra-the-second-of-the-seven-main-chakras-focusing-on-the-.webp
END:VEVENT
BEGIN:VEVENT
DTSTART;TZID=UTC:20241114T194500
DTEND;TZID=UTC:20241114T210000
DTSTAMP:20260422T131313
CREATED:20241112T162153Z
LAST-MODIFIED:20241112T194646Z
UID:10887-1731613500-1731618000@stella-vita.com
SUMMARY:Wurzelchakra LIVE
DESCRIPTION:Das Wurzelchakra ist das erste der 7 Hauptchakren. Es ist die körperliche Ebene und bildet damit die Basis unseres Lebens. Hierüber werden unsere Grundbedürfnisse wie Überleben und Sicherheit aber auch die Atmung\, Hydrierung\, Ernährung\, Erholung und Bewegung abgedeckt. \nIn dieser kostenlosen Live-Veranstaltung lernst du: \n… welche Aufgaben und Funktionen das Wurzelchakra hat \n… wie sich ein blockiertes Chakra auswirken kann \n… wie du dein Chakra reinigen und stärken kannst \n… woran du ein aktives Wurzelchakra erkennst. \nDie Veranstaltung findet als kostenloser Livestream über meinen TikTok-Kanal statt. Klicke einfach auf den Link\, um dem Livestream beizutreten. \n>> Hier kommst du zum Livestream
URL:https://stella-vita.com/event/wurzelchakra-live/
LOCATION:TikTok Live
CATEGORIES:Kostenloses LIVE
ATTACH;FMTTYPE=image/webp:https://stella-vita.com/wp-content/uploads/2024/11/DALL·E-2024-11-12-20.35.55-A-vibrant-and-calming-illustration-for-a-16_9-title-image-about-the-Root-Chakra-emphasizing-its-connection-to-foundational-needs-like-survival-secur.webp
END:VEVENT
END:VCALENDAR